BEGIN:VCALENDAR
VERSION:2.0
PRODID:-//Tukios.com/
BEGIN:VEVENT
UID:2dcedca9-40a9-421e-accf-b66a5f135f13@www.cravens-shires.com
DTSTAMP:20260422T170716Z
DTSTART:20260425T150000Z
DTEND:20260425T160000Z
SUMMARY:Funeral Service
DESCRIPTION:
URL:https://www.cravens-shires.com/obituaries/willie-wilkins
LOCATION:   Keystone WV 24868
GEO:37.4148369;-81.450937
END:VEVENT
END:VCALENDAR