BEGIN:VCALENDAR
VERSION:2.0
PRODID:-//Tukios.com/
BEGIN:VEVENT
UID:46cf75b8-f91b-4f97-ad1e-4bd839175cd9@www.cravens-shires.com
DTSTAMP:20260422T171914Z
DTSTART:20260423T170000Z
DTEND:20260423T180000Z
SUMMARY:Visitation
DESCRIPTION:
URL:https://www.cravens-shires.com/obituaries/randy-nichols
LOCATION: 3431 Coal Heritage Rd  Bluefield WV 24701
GEO:37.3041213;-81.2574032
END:VEVENT
END:VCALENDAR