BEGIN:VCALENDAR
VERSION:2.0
PRODID:-//Tukios.com/
BEGIN:VEVENT
UID:a42a0caa-1a77-4629-83f1-e5b79e84d00c@www.cravens-shires.com
DTSTAMP:20260422T172145Z
DTSTART:20260423T180000Z
DTEND:20260423T190000Z
SUMMARY:Graveside Service
DESCRIPTION:
URL:https://www.cravens-shires.com/obituaries/randy-nichols
LOCATION: 3410 Coal Heritage Road  Bluefield WV 24701
GEO:37.3069497;-81.2551206
END:VEVENT
END:VCALENDAR