BEGIN:VCALENDAR
VERSION:2.0
PRODID:-//Tukios.com/
BEGIN:VEVENT
UID:9a42121a-9762-48f5-ac89-e1982f3f7575@www.cravens-shires.com
DTSTAMP:20260424T000312Z
DTSTART:20260425T220000Z
DTEND:20260425T230000Z
SUMMARY:Funeral Service
DESCRIPTION:
URL:https://www.cravens-shires.com/obituaries/martha-mcvey
LOCATION: 3431 Coal Heritage Road  Bluefield WV 24701
GEO:37.3041213;-81.2574032
END:VEVENT
END:VCALENDAR