BEGIN:VCALENDAR
VERSION:2.0
PRODID:-//Tukios.com/
BEGIN:VEVENT
UID:e7f530a2-db16-4a41-a9f6-a76e3d68ad24@www.cravens-shires.com
DTSTAMP:20260424T000116Z
DTSTART:20260425T200000Z
DTEND:20260425T220000Z
SUMMARY:Public Visitation
DESCRIPTION:
URL:https://www.cravens-shires.com/obituaries/martha-mcvey
LOCATION: 3431 Coal Heritage Road  Bluefield WV 24701
GEO:37.3041213;-81.2574032
END:VEVENT
END:VCALENDAR