BEGIN:VCALENDAR
VERSION:2.0
PRODID:-//Tukios.com/
BEGIN:VEVENT
UID:566e2390-1389-4ef5-b906-7ffc88c4039d@www.cravens-shires.com
DTSTAMP:20260424T231644Z
DTSTART:20260425T170000Z
DTEND:20260425T180000Z
SUMMARY:Funeral Service
DESCRIPTION:
URL:https://www.cravens-shires.com/obituaries/mark-sutton
LOCATION: 3431 Coal Heritage Rd  Bluefield WV 24701
GEO:37.3041213;-81.2574032
END:VEVENT
END:VCALENDAR