BEGIN:VCALENDAR
VERSION:2.0
PRODID:-//Tukios.com/
BEGIN:VEVENT
UID:62e673d0-1bfb-49c6-b9c2-2ce5cb0ee6be@www.cravens-shires.com
DTSTAMP:20260424T231450Z
DTSTART:20260425T160000Z
DTEND:20260425T170000Z
SUMMARY:Visitation
DESCRIPTION:
URL:https://www.cravens-shires.com/obituaries/mark-sutton
LOCATION: 3431 Coal Heritage Rd  Bluefield WV 24701
GEO:37.3041213;-81.2574032
END:VEVENT
END:VCALENDAR