BEGIN:VCALENDAR
VERSION:2.0
PRODID:-//Tukios.com/
BEGIN:VEVENT
UID:d7699e01-73ed-4b8c-91aa-3c7f78866859@www.cravens-shires.com
DTSTAMP:20260421T001559Z
DTSTART:20260424T150000Z
DTEND:20260424T160000Z
SUMMARY:Funeral Service
DESCRIPTION:
URL:https://www.cravens-shires.com/obituaries/jerry-sizemore
LOCATION:Cravens-Shires Funeral Home 3431 Coal Heritage Road  Bluefield 
	WV 24701
GEO:37.3041213;-81.2574032
END:VEVENT
END:VCALENDAR