BEGIN:VCALENDAR
VERSION:2.0
PRODID:-//Tukios.com/
BEGIN:VEVENT
UID:c0d2b9bf-fd0c-41e4-bf5b-d3238c6149cd@www.cravens-shires.com
DTSTAMP:20260421T002121Z
DTSTART:20260424T140000Z
DTEND:20260424T150000Z
SUMMARY:Public Visitation
DESCRIPTION:
URL:https://www.cravens-shires.com/obituaries/jerry-sizemore
LOCATION:Cravens-Shires Funeral Home 3431 Coal Heritage Road  Bluefield 
	WV 24701
GEO:37.3041213;-81.2574032
END:VEVENT
END:VCALENDAR