BEGIN:VCALENDAR
VERSION:2.0
PRODID:-//Tukios.com/
BEGIN:VEVENT
UID:571a0ff3-cbb3-41bf-a278-344e7ff31750@www.cravens-shires.com
DTSTAMP:20260420T211145Z
DTSTART:20260424T180000Z
DTEND:20260424T190000Z
SUMMARY:Graveside Service
DESCRIPTION:
URL:https://www.cravens-shires.com/obituaries/ellen-grahovac
LOCATION:Woodlawn Memorial Park 3410 Coal Heritage Road  Bluefield WV 
	24701
GEO:37.3069497;-81.2551206
END:VEVENT
END:VCALENDAR